BEGIN:VCALENDAR
VERSION:2.0
PRODID:-//NADI Felda Bukit Tembaga - ECPv6.15.13.1//NONSGML v1.0//EN
CALSCALE:GREGORIAN
METHOD:PUBLISH
X-WR-CALNAME:NADI Felda Bukit Tembaga
X-ORIGINAL-URL:https://bukittembaga.nadi.my
X-WR-CALDESC:Events for NADI Felda Bukit Tembaga
REFRESH-INTERVAL;VALUE=DURATION:PT1H
X-Robots-Tag:noindex
X-PUBLISHED-TTL:PT1H
BEGIN:VTIMEZONE
TZID:Asia/Kuala_Lumpur
BEGIN:STANDARD
TZOFFSETFROM:+0800
TZOFFSETTO:+0800
TZNAME:+08
DTSTART:20250101T000000
END:STANDARD
END:VTIMEZONE
BEGIN:VEVENT
DTSTART;TZID=Asia/Kuala_Lumpur:20260108T100000
DTEND;TZID=Asia/Kuala_Lumpur:20260108T113000
DTSTAMP:20260423T075114
CREATED:20260102T090102Z
LAST-MODIFIED:20260102T090102Z
UID:3164-1767866400-1767871800@bukittembaga.nadi.my
SUMMARY:NADI Mahir: Forum Mahir Intake 3
DESCRIPTION:NADI Mahir: Forum Mahir Intake 3
URL:https://bukittembaga.nadi.my/event/nadi-mahir-forum-mahir-intake-3/
END:VEVENT
BEGIN:VEVENT
DTSTART;VALUE=DATE:20260117
DTEND;VALUE=DATE:20260118
DTSTAMP:20260423T075114
CREATED:20260102T085428Z
LAST-MODIFIED:20260102T085428Z
UID:3160-1768608000-1768694399@bukittembaga.nadi.my
SUMMARY:Cuti Umum Isra' Mikraj
DESCRIPTION:Cuti Umum Isra’ Mikraj
URL:https://bukittembaga.nadi.my/event/cuti-umum-isra-mikraj/
END:VEVENT
BEGIN:VEVENT
DTSTART;TZID=Asia/Kuala_Lumpur:20260131T090000
DTEND;TZID=Asia/Kuala_Lumpur:20260131T120000
DTSTAMP:20260423T075114
CREATED:20260107T080319Z
LAST-MODIFIED:20260107T080319Z
UID:3169-1769850000-1769860800@bukittembaga.nadi.my
SUMMARY:Booth NADI di SMKKN
DESCRIPTION:Booth NADI di SMKKN
URL:https://bukittembaga.nadi.my/event/booth-nadi-di-smkkn/
LOCATION:Sekolah Menengah Kebangsaan Kuala Nerang\, Kuala Nerang\, 06300\, Malaysia
END:VEVENT
END:VCALENDAR