BEGIN:VCALENDAR
VERSION:2.0
PRODID:-//NADI Felda Bukit Tembaga - ECPv6.15.13.1//NONSGML v1.0//EN
CALSCALE:GREGORIAN
METHOD:PUBLISH
X-WR-CALNAME:NADI Felda Bukit Tembaga
X-ORIGINAL-URL:https://bukittembaga.nadi.my
X-WR-CALDESC:Events for NADI Felda Bukit Tembaga
REFRESH-INTERVAL;VALUE=DURATION:PT1H
X-Robots-Tag:noindex
X-PUBLISHED-TTL:PT1H
BEGIN:VTIMEZONE
TZID:Asia/Kuala_Lumpur
BEGIN:STANDARD
TZOFFSETFROM:+0800
TZOFFSETTO:+0800
TZNAME:+08
DTSTART:20240101T000000
END:STANDARD
END:VTIMEZONE
BEGIN:VEVENT
DTSTART;TZID=Asia/Kuala_Lumpur:20251201T093000
DTEND;TZID=Asia/Kuala_Lumpur:20251201T110000
DTSTAMP:20260425T102047
CREATED:20251201T062902Z
LAST-MODIFIED:20251201T062902Z
UID:3118-1764581400-1764586800@bukittembaga.nadi.my
SUMMARY:Mahir Jahit Intake 2
DESCRIPTION:Kelas Mingguan Mahir Jahit Intake 2
URL:https://bukittembaga.nadi.my/event/mahir-jahit-intake-2/
END:VEVENT
BEGIN:VEVENT
DTSTART;TZID=Asia/Kuala_Lumpur:20251202T093000
DTEND;TZID=Asia/Kuala_Lumpur:20251202T110000
DTSTAMP:20260425T102047
CREATED:20251201T063043Z
LAST-MODIFIED:20251201T063043Z
UID:3127-1764667800-1764673200@bukittembaga.nadi.my
SUMMARY:Mahir Masak Intake 2
DESCRIPTION:Kelas Mingguan Mahir Masak Intake 2
URL:https://bukittembaga.nadi.my/event/mahir-masak-intake-2/
END:VEVENT
BEGIN:VEVENT
DTSTART;TZID=Asia/Kuala_Lumpur:20251204T150000
DTEND;TZID=Asia/Kuala_Lumpur:20251204T163000
DTSTAMP:20260425T102047
CREATED:20251205T071847Z
LAST-MODIFIED:20251205T071847Z
UID:3146-1764860400-1764865800@bukittembaga.nadi.my
SUMMARY:Webinar Cybersecurity - Ancaman Kamera Tersembunyi
DESCRIPTION:Webinar Cybersecurity – Ancaman Kamera Tersembunyi\n\n\n Khamis\, 4 Disember 2025\n 3:00 petang – 4:00 petang\nNADI Felda Bukit Tembaga
URL:https://bukittembaga.nadi.my/event/webinar-cybersecurity-ancaman-kamera-tersembunyi/
END:VEVENT
BEGIN:VEVENT
DTSTART;TZID=Asia/Kuala_Lumpur:20251208T093000
DTEND;TZID=Asia/Kuala_Lumpur:20251208T110000
DTSTAMP:20260425T102047
CREATED:20251201T062932Z
LAST-MODIFIED:20251201T062932Z
UID:3121-1765186200-1765191600@bukittembaga.nadi.my
SUMMARY:Mahir Jahit Intake 2
DESCRIPTION:Kelas Mingguan Mahir Jahit Intake 2
URL:https://bukittembaga.nadi.my/event/mahir-jahit-intake-2-2/
END:VEVENT
BEGIN:VEVENT
DTSTART;TZID=Asia/Kuala_Lumpur:20251209T093000
DTEND;TZID=Asia/Kuala_Lumpur:20251209T110000
DTSTAMP:20260425T102047
CREATED:20251201T063108Z
LAST-MODIFIED:20251201T063108Z
UID:3129-1765272600-1765278000@bukittembaga.nadi.my
SUMMARY:Mahir Masak Intake 2
DESCRIPTION:Kelas Mingguan Mahir Masak Intake 2
URL:https://bukittembaga.nadi.my/event/mahir-masak-intake-2-2/
END:VEVENT
BEGIN:VEVENT
DTSTART;TZID=Asia/Kuala_Lumpur:20251215T093000
DTEND;TZID=Asia/Kuala_Lumpur:20251215T110000
DTSTAMP:20260425T102047
CREATED:20251201T063014Z
LAST-MODIFIED:20251201T063014Z
UID:3124-1765791000-1765796400@bukittembaga.nadi.my
SUMMARY:Mahir Jahit Intake 2
DESCRIPTION:Kelas Mingguan Mahir Jahit Intake 2
URL:https://bukittembaga.nadi.my/event/mahir-jahit-intake-2-3/
END:VEVENT
BEGIN:VEVENT
DTSTART;TZID=Asia/Kuala_Lumpur:20251216T093000
DTEND;TZID=Asia/Kuala_Lumpur:20251216T113000
DTSTAMP:20260425T102047
CREATED:20251201T063133Z
LAST-MODIFIED:20251201T063133Z
UID:3131-1765877400-1765884600@bukittembaga.nadi.my
SUMMARY:Mahir Masak Intake 2
DESCRIPTION:Kelas Mingguan Mahir Masak Intake 2
URL:https://bukittembaga.nadi.my/event/mahir-masak-intake-2-3/
END:VEVENT
BEGIN:VEVENT
DTSTART;VALUE=DATE:20251225
DTEND;VALUE=DATE:20251226
DTSTAMP:20260425T102047
CREATED:20251201T063209Z
LAST-MODIFIED:20251201T063209Z
UID:3133-1766620800-1766707199@bukittembaga.nadi.my
SUMMARY:Cuti Umum Hari Krismas
DESCRIPTION:Cuti Umum Hari Krismas
URL:https://bukittembaga.nadi.my/event/cuti-umum-hari-krismas/
END:VEVENT
END:VCALENDAR