BEGIN:VCALENDAR
VERSION:2.0
PRODID:-//NADI Felda Bukit Tembaga - ECPv6.15.13.1//NONSGML v1.0//EN
CALSCALE:GREGORIAN
METHOD:PUBLISH
X-WR-CALNAME:NADI Felda Bukit Tembaga
X-ORIGINAL-URL:https://bukittembaga.nadi.my
X-WR-CALDESC:Events for NADI Felda Bukit Tembaga
REFRESH-INTERVAL;VALUE=DURATION:PT1H
X-Robots-Tag:noindex
X-PUBLISHED-TTL:PT1H
BEGIN:VTIMEZONE
TZID:Asia/Kuala_Lumpur
BEGIN:STANDARD
TZOFFSETFROM:+0800
TZOFFSETTO:+0800
TZNAME:+08
DTSTART:20240101T000000
END:STANDARD
END:VTIMEZONE
BEGIN:VEVENT
DTSTART;TZID=Asia/Kuala_Lumpur:20251107T093000
DTEND;TZID=Asia/Kuala_Lumpur:20251107T110000
DTSTAMP:20260425T102046
CREATED:20251104T072625Z
LAST-MODIFIED:20251104T072625Z
UID:3059-1762507800-1762513200@bukittembaga.nadi.my
SUMMARY:Mahir Foto
DESCRIPTION:Kelas Mingguan Mahir Foto
URL:https://bukittembaga.nadi.my/event/mahir-foto-3/
END:VEVENT
BEGIN:VEVENT
DTSTART;TZID=Asia/Kuala_Lumpur:20251110T093000
DTEND;TZID=Asia/Kuala_Lumpur:20251110T110000
DTSTAMP:20260425T102046
CREATED:20251104T072723Z
LAST-MODIFIED:20251104T072723Z
UID:3062-1762767000-1762772400@bukittembaga.nadi.my
SUMMARY:Mahir Jahit
DESCRIPTION:Kelas Mingguan Mahir Jahit
URL:https://bukittembaga.nadi.my/event/mahir-jahit-2/
END:VEVENT
BEGIN:VEVENT
DTSTART;TZID=Asia/Kuala_Lumpur:20251111T093000
DTEND;TZID=Asia/Kuala_Lumpur:20251111T110000
DTSTAMP:20260425T102046
CREATED:20251104T072755Z
LAST-MODIFIED:20251104T072755Z
UID:3064-1762853400-1762858800@bukittembaga.nadi.my
SUMMARY:Mahir Masak
DESCRIPTION:Kelas Mingguan Mahir Masak
URL:https://bukittembaga.nadi.my/event/mahir-masak-2/
END:VEVENT
BEGIN:VEVENT
DTSTART;TZID=Asia/Kuala_Lumpur:20251124T083000
DTEND;TZID=Asia/Kuala_Lumpur:20251124T130000
DTSTAMP:20260425T102046
CREATED:20251124T022919Z
LAST-MODIFIED:20251124T022919Z
UID:3105-1763973000-1763989200@bukittembaga.nadi.my
SUMMARY:KIS SMK Datuk Syed Ahmad
DESCRIPTION:Kempen Internet Selamat di SMK Datuk Syed Ahmad\, Kuala Nerang pada 24 November 2025
URL:https://bukittembaga.nadi.my/event/kis-smk-datuk-syed-ahmad/
END:VEVENT
BEGIN:VEVENT
DTSTART;TZID=Asia/Kuala_Lumpur:20251125T083000
DTEND;TZID=Asia/Kuala_Lumpur:20251125T130000
DTSTAMP:20260425T102046
CREATED:20251124T023016Z
LAST-MODIFIED:20251124T023016Z
UID:3107-1764059400-1764075600@bukittembaga.nadi.my
SUMMARY:KIS SMK Lubok Merbau
DESCRIPTION:Kempen Internet Selamat di SMK Lubok Merbau pada  25 November 2025
URL:https://bukittembaga.nadi.my/event/kis-smk-lubok-merbau/
END:VEVENT
BEGIN:VEVENT
DTSTART;TZID=Asia/Kuala_Lumpur:20251130T083000
DTEND;TZID=Asia/Kuala_Lumpur:20251130T130000
DTSTAMP:20260425T102046
CREATED:20251124T023105Z
LAST-MODIFIED:20251124T023105Z
UID:3109-1764491400-1764507600@bukittembaga.nadi.my
SUMMARY:KIS Maktab Mahmud Padang Terap
DESCRIPTION:Kempen Internet Selamat di Maktab Mahmud Padang Terap pada 30 November 2025
URL:https://bukittembaga.nadi.my/event/kis-maktab-mahmud-padang-terap/
END:VEVENT
END:VCALENDAR