BEGIN:VCALENDAR
VERSION:2.0
PRODID:-//NADI Felda Bukit Tembaga - ECPv6.15.13.1//NONSGML v1.0//EN
CALSCALE:GREGORIAN
METHOD:PUBLISH
X-WR-CALNAME:NADI Felda Bukit Tembaga
X-ORIGINAL-URL:https://bukittembaga.nadi.my
X-WR-CALDESC:Events for NADI Felda Bukit Tembaga
REFRESH-INTERVAL;VALUE=DURATION:PT1H
X-Robots-Tag:noindex
X-PUBLISHED-TTL:PT1H
BEGIN:VTIMEZONE
TZID:Asia/Kuala_Lumpur
BEGIN:STANDARD
TZOFFSETFROM:+0800
TZOFFSETTO:+0800
TZNAME:+08
DTSTART:20240101T000000
END:STANDARD
END:VTIMEZONE
BEGIN:VEVENT
DTSTART;TZID=Asia/Kuala_Lumpur:20250907T100000
DTEND;TZID=Asia/Kuala_Lumpur:20250907T160000
DTSTAMP:20260424T131359
CREATED:20250904T034114Z
LAST-MODIFIED:20250904T034114Z
UID:2934-1757239200-1757260800@bukittembaga.nadi.my
SUMMARY:Program Khas Merdeka & Hari Malaysia @ NADI
DESCRIPTION:Program Khas Merdeka & Hari Malaysia @ NADI \nJom ramai-ramai datang ke NADI Felda Bukit Tembaga untuk sambutan istimewa sempena Hari Merdeka & Hari Malaysia @ NADI\n Tarikh: 7 September 2025 (September)\n Masa: 10.00 pagi – 4.00 petang\n Lokasi: NADI FELDA BUKIT TEMBAGA\nAntara aktiviti menarik yang menanti anda:\n [Aktiviti 1 – Pertandingan Mewarna Merdeka\n [Aktiviti 2 – Saringan Kesihatan Percuma\n [Aktiviti 3 – MAHIR Masak Tema Merdeka\n [Aktiviti 4 – E Sukan\n [Aktiviti 5 – Jualan Usahawan NADI\n [Aktiviti 6 – Puzzle Merdeka\nPendaftaran Ahli Percuma\nJangan lepaskan peluang untuk bersama-sama kita meriahkan sambutan ini!\n#NADIMCMC #MerdekaDiNADI
URL:https://bukittembaga.nadi.my/event/program-khas-merdeka-hari-malaysia-nadi/
LOCATION:NADI Felda Bukit Tembaga\, NADI Felda Bukit Tembaga\, Kuala Nerang\, Kedah\, 06300\, Malaysia
END:VEVENT
END:VCALENDAR