BEGIN:VCALENDAR
VERSION:2.0
PRODID:-//NADI Felda Bukit Tembaga - ECPv6.15.13.1//NONSGML v1.0//EN
CALSCALE:GREGORIAN
METHOD:PUBLISH
X-WR-CALNAME:NADI Felda Bukit Tembaga
X-ORIGINAL-URL:https://bukittembaga.nadi.my
X-WR-CALDESC:Events for NADI Felda Bukit Tembaga
REFRESH-INTERVAL;VALUE=DURATION:PT1H
X-Robots-Tag:noindex
X-PUBLISHED-TTL:PT1H
BEGIN:VTIMEZONE
TZID:Asia/Kuala_Lumpur
BEGIN:STANDARD
TZOFFSETFROM:+0800
TZOFFSETTO:+0800
TZNAME:+08
DTSTART:20250101T000000
END:STANDARD
END:VTIMEZONE
BEGIN:VEVENT
DTSTART;TZID=Asia/Kuala_Lumpur:20260420T100000
DTEND;TZID=Asia/Kuala_Lumpur:20260420T110000
DTSTAMP:20260420T110510
CREATED:20260413T073521Z
LAST-MODIFIED:20260413T073521Z
UID:3403-1776679200-1776682800@bukittembaga.nadi.my
SUMMARY:eKelas Usahawan Modul 1: Strategi Pemasaran Digital
DESCRIPTION:Modul 1: Strategi Pemasaran Digital\nTarikh: Isnin\, 20 April 2026\nMasa: 10:00 pagi – 11:00 pagi\nLokasi: Zoom\nPautan Pendaftaran Webinar: bit.ly/eku200426am
URL:https://bukittembaga.nadi.my/event/ekelas-usahawan-modul-1-strategi-pemasaran-digital-2/
END:VEVENT
BEGIN:VEVENT
DTSTART;VALUE=DATE:20260417
DTEND;VALUE=DATE:20260420
DTSTAMP:20260420T110510
CREATED:20260401T043944Z
LAST-MODIFIED:20260401T043944Z
UID:3372-1776384000-1776643199@bukittembaga.nadi.my
SUMMARY:Teamwork & Peranan Dalam Pasukan E-Sukan
DESCRIPTION:Teamwork & Peranan Dalam Pasukan E-Sukan
URL:https://bukittembaga.nadi.my/event/teamwork-peranan-dalam-pasukan-e-sukan/
END:VEVENT
BEGIN:VEVENT
DTSTART;VALUE=DATE:20260410
DTEND;VALUE=DATE:20260413
DTSTAMP:20260420T110510
CREATED:20260401T043928Z
LAST-MODIFIED:20260401T043928Z
UID:3370-1775779200-1776038399@bukittembaga.nadi.my
SUMMARY:Pengurusan Konflik Dalam Pasukan E-Sukan
DESCRIPTION:Pengurusan Konflik Dalam Pasukan E-Sukan
URL:https://bukittembaga.nadi.my/event/pengurusan-konflik-dalam-pasukan-e-sukan/
END:VEVENT
BEGIN:VEVENT
DTSTART;TZID=Asia/Kuala_Lumpur:20260409T150000
DTEND;TZID=Asia/Kuala_Lumpur:20260409T163000
DTSTAMP:20260420T110510
CREATED:20260401T043909Z
LAST-MODIFIED:20260401T043909Z
UID:3368-1775746800-1775752200@bukittembaga.nadi.my
SUMMARY:Cybersecurity: Cara Menjaga Keselamatan CCTV & Wifi Rumah Dari Digodam
DESCRIPTION:Cybersecurity: Cara Menjaga Keselamatan CCTV & Wifi Rumah Dari Digodam
URL:https://bukittembaga.nadi.my/event/cybersecurity-cara-menjaga-keselamatan-cctv-wifi-rumah-dari-digodam/
END:VEVENT
BEGIN:VEVENT
DTSTART;TZID=Asia/Kuala_Lumpur:20260409T100000
DTEND;TZID=Asia/Kuala_Lumpur:20260409T120000
DTSTAMP:20260420T110510
CREATED:20260409T033729Z
LAST-MODIFIED:20260409T033729Z
UID:3390-1775728800-1775736000@bukittembaga.nadi.my
SUMMARY:NADIPRENEUR LIVE WEBINAR 8 (PEMASARAN)
DESCRIPTION:📢 JEMPUTAN WEBINAR PERCUMA \nLIVE WEBINAR 8 (PEMASARAN)\n📅 Tarikh: 9 April 2026 (Khamis)\n⏰ Masa: 10.00 – 12.00 tengahari \nKUMPULAN 1\nJohor\, Kedah\, Kelantan\, Melaka\, Negeri Sembilan\, Pahang \n👩‍🏫 Tenaga Pengajar: Syerie Noer Hidayaty Muhamad Basir\n🎤 Host: SSO Usahawan\n🔗 Pautan Google Meet: https://meet.google.com/nbd-yncu-ssh \nKUMPULAN 2\nPerak\, Perlis\, Pulau Pinang\, Sabah\, Sarawak\, Selangor\, Terengganu\,\nW.P. Kuala Lumpur\, W.P. Labuan\, W.P. Putrajaya \n👩‍🏫 Tenaga Pengajar: Rozita Halina Rosli\n🎤 Host: SSO Usahawan\n🔗 Pautan Google Meet: https://meet.google.com/mpy-nokf-nio \n📌 Peserta diminta menyertai sesi mengikut negeri masing-masing.
URL:https://bukittembaga.nadi.my/event/nadipreneur-live-webinar-8-pemasaran/
END:VEVENT
BEGIN:VEVENT
DTSTART;VALUE=DATE:20260404
DTEND;VALUE=DATE:20260405
DTSTAMP:20260420T110510
CREATED:20260401T043839Z
LAST-MODIFIED:20260401T043839Z
UID:3366-1775260800-1775347199@bukittembaga.nadi.my
SUMMARY:KIS: Webinar Privasi Data\, Data anda\, nyawa anda - Jangan biar dicuri
DESCRIPTION:KIS: Webinar Privasi Data\, Data anda\, nyawa anda – Jangan biar dicuri
URL:https://bukittembaga.nadi.my/event/kis-webinar-privasi-data-data-anda-nyawa-anda-jangan-biar-dicuri/
END:VEVENT
BEGIN:VEVENT
DTSTART;TZID=Asia/Kuala_Lumpur:20260403T103000
DTEND;TZID=Asia/Kuala_Lumpur:20260403T113000
DTSTAMP:20260420T110510
CREATED:20260330T072324Z
LAST-MODIFIED:20260330T072324Z
UID:3347-1775212200-1775215800@bukittembaga.nadi.my
SUMMARY:Seni Mengurus 'Meltdown' Pelajar Autisme Di Dalam Kelas
DESCRIPTION:3 April 2026 (Jumaat) | 10:30 Pagi \nSeni Mengurus ‘Meltdown’ Pelajar Autisme Di Dalam Kelas \nhttps://meet.google.com/tvt-jacd-uem
URL:https://bukittembaga.nadi.my/event/seni-mengurus-meltdown-pelajar-autisme-di-dalam-kelas/
END:VEVENT
BEGIN:VEVENT
DTSTART;VALUE=DATE:20260403
DTEND;VALUE=DATE:20260406
DTSTAMP:20260420T110510
CREATED:20260401T043805Z
LAST-MODIFIED:20260401T043805Z
UID:3364-1775174400-1775433599@bukittembaga.nadi.my
SUMMARY:Komunikasi Dalam Pasukan E-Sukan
DESCRIPTION:Komunikasi Dalam Pasukan E-Sukan
URL:https://bukittembaga.nadi.my/event/komunikasi-dalam-pasukan-e-sukan/
END:VEVENT
BEGIN:VEVENT
DTSTART;TZID=Asia/Kuala_Lumpur:20260331T140000
DTEND;TZID=Asia/Kuala_Lumpur:20260331T150000
DTSTAMP:20260420T110510
CREATED:20260330T072028Z
LAST-MODIFIED:20260330T072028Z
UID:3342-1774965600-1774969200@bukittembaga.nadi.my
SUMMARY:eKelas Usahawan Modul 4: Mengurus dan Mengukur Keberkesanan Pemasaran Digital
DESCRIPTION:Modul 4: Mengurus dan Mengukur Keberkesanan Pemasaran Digital\nTarikh: Selasa\, 31 March 2026\nMasa: 2:00 petang – 3:00 petang\nLokasi: Zoom\nPautan Pendaftaran Webinar: bit.ly/eku310326pm
URL:https://bukittembaga.nadi.my/event/ekelas-usahawan-modul-4-mengurus-dan-mengukur-keberkesanan-pemasaran-digital/
END:VEVENT
BEGIN:VEVENT
DTSTART;TZID=Asia/Kuala_Lumpur:20260331T103000
DTEND;TZID=Asia/Kuala_Lumpur:20260331T113000
DTSTAMP:20260420T110510
CREATED:20260330T072244Z
LAST-MODIFIED:20260330T072244Z
UID:3345-1774953000-1774956600@bukittembaga.nadi.my
SUMMARY:OKU & Sukan: Para Taekwondo Malaysia
DESCRIPTION:31 Mac 2026 (Selasa) | 10:30 Pagi \nOKU & Sukan: Para Taekwondo Malaysia \nhttps://meet.google.com/tvt-jacd-uem
URL:https://bukittembaga.nadi.my/event/oku-sukan-para-taekwondo-malaysia/
END:VEVENT
BEGIN:VEVENT
DTSTART;TZID=Asia/Kuala_Lumpur:20260331T100000
DTEND;TZID=Asia/Kuala_Lumpur:20260331T110000
DTSTAMP:20260420T110510
CREATED:20260330T071959Z
LAST-MODIFIED:20260330T071959Z
UID:3340-1774951200-1774954800@bukittembaga.nadi.my
SUMMARY:eKelas Usahawan Modul 3: AI untuk Mencipta Kandungan
DESCRIPTION:Modul 3: AI untuk Mencipta Kandungan\nTarikh: Selasa\, 31 March 2026\nMasa: 10:00 pagi – 11:00 pagi\nLokasi: Zoom\nPautan Pendaftaran Webinar: bit.ly/eku310326am
URL:https://bukittembaga.nadi.my/event/ekelas-usahawan-modul-3-ai-untuk-mencipta-kandungan/
END:VEVENT
BEGIN:VEVENT
DTSTART;TZID=Asia/Kuala_Lumpur:20260330T140000
DTEND;TZID=Asia/Kuala_Lumpur:20260330T150000
DTSTAMP:20260420T110510
CREATED:20260330T071926Z
LAST-MODIFIED:20260330T071926Z
UID:3338-1774879200-1774882800@bukittembaga.nadi.my
SUMMARY:eKelas Usahawan Modul 2: Asas Visual Komunikasi
DESCRIPTION:Modul 2: Asas Visual Komunikasi\nTarikh: Isnin\, 30 March 2026\nMasa: 2:00 petang – 3:00 petang\nLokasi: Zoom\nPautan Pendaftaran Webinar: bit.ly/eku300326pm
URL:https://bukittembaga.nadi.my/event/ekelas-usahawan-modul-2-asas-visual-komunikasi/
END:VEVENT
BEGIN:VEVENT
DTSTART;TZID=Asia/Kuala_Lumpur:20260330T100000
DTEND;TZID=Asia/Kuala_Lumpur:20260330T110000
DTSTAMP:20260420T110510
CREATED:20260330T071852Z
LAST-MODIFIED:20260330T071852Z
UID:3336-1774864800-1774868400@bukittembaga.nadi.my
SUMMARY:eKelas Usahawan Modul 1: Strategi Pemasaran Digital
DESCRIPTION:Modul 1: Strategi Pemasaran Digital\nTarikh: Isnin\, 30 March 2026\nMasa: 10:00 pagi – 11:00 pagi\nLokasi: Zoom\nPautan Pendaftaran Webinar: bit.ly/eku300326am
URL:https://bukittembaga.nadi.my/event/ekelas-usahawan-modul-1-strategi-pemasaran-digital/
END:VEVENT
BEGIN:VEVENT
DTSTART;VALUE=DATE:20260321
DTEND;VALUE=DATE:20260323
DTSTAMP:20260420T110510
CREATED:20260302T015031Z
LAST-MODIFIED:20260302T015031Z
UID:3301-1774051200-1774223999@bukittembaga.nadi.my
SUMMARY:Cuti Umum Hari Raya Aidilfitri
DESCRIPTION:Cuti Umum Hari Raya Aidilfitri
URL:https://bukittembaga.nadi.my/event/cuti-umum-hari-raya-aidilfitri-2/
END:VEVENT
BEGIN:VEVENT
DTSTART;TZID=Asia/Kuala_Lumpur:20260314T100000
DTEND;TZID=Asia/Kuala_Lumpur:20260314T120000
DTSTAMP:20260420T110510
CREATED:20260302T014941Z
LAST-MODIFIED:20260302T014941Z
UID:3299-1773482400-1773489600@bukittembaga.nadi.my
SUMMARY:Mahir Foto Pertandingan Videografi Bawaku Kesini Musim ke2: Tayangan & Bicara Karya
DESCRIPTION:Mahir Foto Pertandingan Videografi Bawaku Kesini Musim ke2: Tayangan & Bicara Karya
URL:https://bukittembaga.nadi.my/event/mahir-foto-pertandingan-videografi-bawaku-kesini-musim-ke2-tayangan-bicara-karya/
END:VEVENT
BEGIN:VEVENT
DTSTART;TZID=Asia/Kuala_Lumpur:20260314T090000
DTEND;TZID=Asia/Kuala_Lumpur:20260314T160000
DTSTAMP:20260420T110510
CREATED:20260302T014908Z
LAST-MODIFIED:20260302T014908Z
UID:3296-1773478800-1773504000@bukittembaga.nadi.my
SUMMARY:Bazar Raya NADI 2026
DESCRIPTION:Bazar Raya NADI 2026
URL:https://bukittembaga.nadi.my/event/bazar-raya-nadi-2026/
END:VEVENT
BEGIN:VEVENT
DTSTART;TZID=Asia/Kuala_Lumpur:20260312T113000
DTEND;TZID=Asia/Kuala_Lumpur:20260312T123000
DTSTAMP:20260420T110510
CREATED:20260302T014737Z
LAST-MODIFIED:20260302T014737Z
UID:3294-1773315000-1773318600@bukittembaga.nadi.my
SUMMARY:Mahir Masak Edisi Aidilfitri Bersama Chef Florence Tan
DESCRIPTION:Mahir Masak Edisi Aidilfitri Bersama Chef Florence Tan
URL:https://bukittembaga.nadi.my/event/mahir-masak-edisi-aidilfitri-bersama-chef-florence-tan/
END:VEVENT
BEGIN:VEVENT
DTSTART;TZID=Asia/Kuala_Lumpur:20260311T113000
DTEND;TZID=Asia/Kuala_Lumpur:20260311T123000
DTSTAMP:20260420T110510
CREATED:20260302T014709Z
LAST-MODIFIED:20260302T014709Z
UID:3292-1773228600-1773232200@bukittembaga.nadi.my
SUMMARY:Mahir Foto Dari Smartphone ke Spotlight: Journey Mobilegraphy Bersama Nuar Yusli
DESCRIPTION:Mahir Foto Dari Smartphone ke Spotlight: Journey Mobilegraphy Bersama Nuar Yusli
URL:https://bukittembaga.nadi.my/event/mahir-foto-dari-smartphone-ke-spotlight-journey-mobilegraphy-bersama-nuar-yusli/
END:VEVENT
BEGIN:VEVENT
DTSTART;TZID=Asia/Kuala_Lumpur:20260310T113000
DTEND;TZID=Asia/Kuala_Lumpur:20260310T123000
DTSTAMP:20260420T110510
CREATED:20260302T014629Z
LAST-MODIFIED:20260302T014629Z
UID:3290-1773142200-1773145800@bukittembaga.nadi.my
SUMMARY:Mahir Jahit Alteration: Besar Jadi Muat\, Kecil Jadi Selesa
DESCRIPTION:Mahir Jahit Alteration: Besar Jadi Muat\, Kecil Jadi Selesa
URL:https://bukittembaga.nadi.my/event/mahir-jahit-alteration-besar-jadi-muat-kecil-jadi-selesa/
END:VEVENT
BEGIN:VEVENT
DTSTART;TZID=Asia/Kuala_Lumpur:20260308T140000
DTEND;TZID=Asia/Kuala_Lumpur:20260308T150000
DTSTAMP:20260420T110510
CREATED:20260302T014552Z
LAST-MODIFIED:20260302T014552Z
UID:3288-1772978400-1772982000@bukittembaga.nadi.my
SUMMARY:Ihya Ramadan: Jom Mengaji @ NADI Bersama Ustaz Azam Din (Khatam)
DESCRIPTION:Ihya Ramadan: Jom Mengaji @ NADI Bersama Ustaz Azam Din (Khatam)
URL:https://bukittembaga.nadi.my/event/ihya-ramadan-jom-mengaji-nadi-bersama-ustaz-azam-din-khatam/
END:VEVENT
BEGIN:VEVENT
DTSTART;TZID=Asia/Kuala_Lumpur:20260306T093000
DTEND;TZID=Asia/Kuala_Lumpur:20260306T110000
DTSTAMP:20260420T110510
CREATED:20260302T014514Z
LAST-MODIFIED:20260302T014514Z
UID:3286-1772789400-1772794800@bukittembaga.nadi.my
SUMMARY:Mahir Masak Portuguese Egg Tart
DESCRIPTION:Mahir Masak Portuguese Egg Tart
URL:https://bukittembaga.nadi.my/event/mahir-masak-portuguese-egg-tart/
END:VEVENT
BEGIN:VEVENT
DTSTART;TZID=Asia/Kuala_Lumpur:20260305T140000
DTEND;TZID=Asia/Kuala_Lumpur:20260305T153000
DTSTAMP:20260420T110510
CREATED:20260302T014437Z
LAST-MODIFIED:20260302T014437Z
UID:3284-1772719200-1772724600@bukittembaga.nadi.my
SUMMARY:Live Webinar Cybersecurity - Bahaya Serangan Malware
DESCRIPTION:Live Webinar Cybersecurity – Bahaya Serangan Malware
URL:https://bukittembaga.nadi.my/event/live-webinar-cybersecurity-bahaya-serangan-malware/
END:VEVENT
BEGIN:VEVENT
DTSTART;TZID=Asia/Kuala_Lumpur:20260305T113000
DTEND;TZID=Asia/Kuala_Lumpur:20260305T123000
DTSTAMP:20260420T110510
CREATED:20260302T014316Z
LAST-MODIFIED:20260302T014316Z
UID:3282-1772710200-1772713800@bukittembaga.nadi.my
SUMMARY:Mahir Jahit Jom Bergaya Raya: Fashion Styling Bersama Wawa Idris
DESCRIPTION:Mahir Jahit Jom Bergaya Raya: Fashion Styling Bersama Wawa Idris
URL:https://bukittembaga.nadi.my/event/mahir-jahit-jom-bergaya-raya-fashion-styling-bersama-wawa-idris/
END:VEVENT
BEGIN:VEVENT
DTSTART;TZID=Asia/Kuala_Lumpur:20260303T093000
DTEND;TZID=Asia/Kuala_Lumpur:20260303T110000
DTSTAMP:20260420T110510
CREATED:20260302T014237Z
LAST-MODIFIED:20260302T014237Z
UID:3280-1772530200-1772535600@bukittembaga.nadi.my
SUMMARY:Mahir Foto Studio Lighting dalam Fotografi
DESCRIPTION:Mahir Foto Studio Lighting dalam Fotografi
URL:https://bukittembaga.nadi.my/event/mahir-foto-studio-lighting-dalam-fotografi/
END:VEVENT
BEGIN:VEVENT
DTSTART;VALUE=DATE:20260219
DTEND;VALUE=DATE:20260220
DTSTAMP:20260420T110510
CREATED:20260204T044750Z
LAST-MODIFIED:20260204T044750Z
UID:3243-1771459200-1771545599@bukittembaga.nadi.my
SUMMARY:Cuti Umum Awal Ramadan
DESCRIPTION:Cuti Umum Awal Ramadan
URL:https://bukittembaga.nadi.my/event/cuti-umum-awal-ramadan/
END:VEVENT
BEGIN:VEVENT
DTSTART;VALUE=DATE:20260217
DTEND;VALUE=DATE:20260219
DTSTAMP:20260420T110510
CREATED:20260204T044736Z
LAST-MODIFIED:20260204T044736Z
UID:3241-1771286400-1771459199@bukittembaga.nadi.my
SUMMARY:Cuti Umum Tahun Baru Cina
DESCRIPTION:Cuti Umum Tahun Baru Cina
URL:https://bukittembaga.nadi.my/event/cuti-umum-tahun-baru-cina/
END:VEVENT
BEGIN:VEVENT
DTSTART;VALUE=DATE:20260212
DTEND;VALUE=DATE:20260213
DTSTAMP:20260420T110510
CREATED:20260204T044705Z
LAST-MODIFIED:20260204T044705Z
UID:3239-1770854400-1770940799@bukittembaga.nadi.my
SUMMARY:Keusahawanan: Webinar Operasi Perniagaan
DESCRIPTION:Keusahawanan: Webinar Operasi Perniagaan
URL:https://bukittembaga.nadi.my/event/keusahawanan-webinar-operasi-perniagaan/
END:VEVENT
BEGIN:VEVENT
DTSTART;VALUE=DATE:20260211
DTEND;VALUE=DATE:20260212
DTSTAMP:20260420T110510
CREATED:20260210T030701Z
LAST-MODIFIED:20260210T030701Z
UID:3263-1770768000-1770854399@bukittembaga.nadi.my
SUMMARY:Meeting Managers Cluster Padang Terap
DESCRIPTION:Meeting Managers Cluster Padang Terap with DRM
URL:https://bukittembaga.nadi.my/event/meeting-managers-cluster-padang-terap/
END:VEVENT
BEGIN:VEVENT
DTSTART;VALUE=DATE:20260210
DTEND;VALUE=DATE:20260211
DTSTAMP:20260420T110510
CREATED:20260204T044649Z
LAST-MODIFIED:20260204T044649Z
UID:3237-1770681600-1770767999@bukittembaga.nadi.my
SUMMARY:Keusahawanan: Video pra latihan
DESCRIPTION:Keusahawanan: Video pra latihan
URL:https://bukittembaga.nadi.my/event/keusahawanan-video-pra-latihan/
END:VEVENT
BEGIN:VEVENT
DTSTART;VALUE=DATE:20260207
DTEND;VALUE=DATE:20260208
DTSTAMP:20260420T110510
CREATED:20260204T044633Z
LAST-MODIFIED:20260204T044633Z
UID:3235-1770422400-1770508799@bukittembaga.nadi.my
SUMMARY:Kidventure Webinar Operasi Perniagaan
DESCRIPTION:Kidventure Webinar Operasi Perniagaan
URL:https://bukittembaga.nadi.my/event/kidventure-webinar-operasi-perniagaan/
END:VEVENT
END:VCALENDAR