BEGIN:VCALENDAR
VERSION:2.0
PRODID:-//NADI Felda Bukit Tembaga - ECPv6.15.13.1//NONSGML v1.0//EN
CALSCALE:GREGORIAN
METHOD:PUBLISH
X-WR-CALNAME:NADI Felda Bukit Tembaga
X-ORIGINAL-URL:https://bukittembaga.nadi.my
X-WR-CALDESC:Events for NADI Felda Bukit Tembaga
REFRESH-INTERVAL;VALUE=DURATION:PT1H
X-Robots-Tag:noindex
X-PUBLISHED-TTL:PT1H
BEGIN:VTIMEZONE
TZID:Asia/Kuala_Lumpur
BEGIN:STANDARD
TZOFFSETFROM:+0800
TZOFFSETTO:+0800
TZNAME:+08
DTSTART:20250101T000000
END:STANDARD
END:VTIMEZONE
BEGIN:VEVENT
DTSTART;VALUE=DATE:20260410
DTEND;VALUE=DATE:20260413
DTSTAMP:20260421T213223
CREATED:20260401T043928Z
LAST-MODIFIED:20260401T043928Z
UID:3370-1775779200-1776038399@bukittembaga.nadi.my
SUMMARY:Pengurusan Konflik Dalam Pasukan E-Sukan
DESCRIPTION:Pengurusan Konflik Dalam Pasukan E-Sukan
URL:https://bukittembaga.nadi.my/event/pengurusan-konflik-dalam-pasukan-e-sukan/
END:VEVENT
END:VCALENDAR