BEGIN:VCALENDAR
VERSION:2.0
PRODID:-//NADI Felda Bukit Tembaga - ECPv6.15.13.1//NONSGML v1.0//EN
CALSCALE:GREGORIAN
METHOD:PUBLISH
X-WR-CALNAME:NADI Felda Bukit Tembaga
X-ORIGINAL-URL:https://bukittembaga.nadi.my
X-WR-CALDESC:Events for NADI Felda Bukit Tembaga
REFRESH-INTERVAL;VALUE=DURATION:PT1H
X-Robots-Tag:noindex
X-PUBLISHED-TTL:PT1H
BEGIN:VTIMEZONE
TZID:Asia/Kuala_Lumpur
BEGIN:STANDARD
TZOFFSETFROM:+0800
TZOFFSETTO:+0800
TZNAME:+08
DTSTART:20240101T000000
END:STANDARD
END:VTIMEZONE
BEGIN:VEVENT
DTSTART;TZID=Asia/Kuala_Lumpur:20251201T093000
DTEND;TZID=Asia/Kuala_Lumpur:20251201T110000
DTSTAMP:20260424T002308
CREATED:20251201T062902Z
LAST-MODIFIED:20251201T062902Z
UID:3118-1764581400-1764586800@bukittembaga.nadi.my
SUMMARY:Mahir Jahit Intake 2
DESCRIPTION:Kelas Mingguan Mahir Jahit Intake 2
URL:https://bukittembaga.nadi.my/event/mahir-jahit-intake-2/
END:VEVENT
END:VCALENDAR